BEGIN:VCALENDAR
VERSION:2.0
PRODID:-//AFREE - ECPv6.15.20//NONSGML v1.0//EN
CALSCALE:GREGORIAN
METHOD:PUBLISH
X-WR-CALNAME:AFREE
X-ORIGINAL-URL:https://afree.asso.fr
X-WR-CALDESC:Évènements pour AFREE
REFRESH-INTERVAL;VALUE=DURATION:PT1H
X-Robots-Tag:noindex
X-PUBLISHED-TTL:PT1H
BEGIN:VTIMEZONE
TZID:UTC
BEGIN:STANDARD
TZOFFSETFROM:+0000
TZOFFSETTO:+0000
TZNAME:UTC
DTSTART:20240101T000000
END:STANDARD
END:VTIMEZONE
BEGIN:VEVENT
DTSTART;TZID=UTC:20251015T090000
DTEND;TZID=UTC:20251017T170000
DTSTAMP:20260422T214401
CREATED:20230312T163429Z
LAST-MODIFIED:20240530T143617Z
UID:876-1760518800-1760720400@afree.asso.fr
SUMMARY:PsychoEducation du TDAH – parents et enfants
DESCRIPTION:Coût\ninstitutions et/ou par l’employeur : 710\,00€ – professions libérales et/ou à titre individuel : 610\,00€ \nObjectifs de la formation \n• Savoir informer et former les parents aux stratégies parentales pour mieux vivre avec le TDAH de leur enfant (processus diagnostique\, symptômes\, étiologie\, prise en charge\, troubles associés\, …) • Savoir animer un groupe de guidance parentale selon le programme Barkley avec deux modalités -> en présentiel et en visioconférences journalières. • Savoir animer un groupe de psychoéducation pour enfants et adolescents avec un diagnostic de TDAH -> groupe de jeunes enfants (6 ans) / enfants primaires (7 à 10 ans) / adolescents collégiens et lycéens (11 à 16 ans) \nDates\n15\, 16\, et 17 octobre 2025 \n  \nDocument\n  Programme PsychoEducation du TDAH – parents et enfants \n  \npour les psychologues
URL:https://afree.asso.fr/formation/psychoeducation-du-tdah-parents-et-enfants
LOCATION:AFREE\, 11 Rue des Hospices\, Montpellier\, 34090\, France
CATEGORIES:Formations à venir,Formations Troubles émotionnels et du comportement 2025
ATTACH;FMTTYPE=image/jpeg:https://afree.asso.fr/wp-content/uploads/2023/02/Troubles-emotionnels.jpeg
END:VEVENT
END:VCALENDAR