BEGIN:VCALENDAR
VERSION:2.0
PRODID:-//AFREE - ECPv6.15.20//NONSGML v1.0//EN
CALSCALE:GREGORIAN
METHOD:PUBLISH
X-ORIGINAL-URL:https://afree.asso.fr
X-WR-CALDESC:Évènements pour AFREE
REFRESH-INTERVAL;VALUE=DURATION:PT1H
X-Robots-Tag:noindex
X-PUBLISHED-TTL:PT1H
BEGIN:VTIMEZONE
TZID:UTC
BEGIN:STANDARD
TZOFFSETFROM:+0000
TZOFFSETTO:+0000
TZNAME:UTC
DTSTART:20240101T000000
END:STANDARD
END:VTIMEZONE
BEGIN:VEVENT
DTSTART;VALUE=DATE:20250929
DTEND;VALUE=DATE:20251001
DTSTAMP:20260422T230519
CREATED:20230312T171236Z
LAST-MODIFIED:20250228T090527Z
UID:899-1759104000-1759276799@afree.asso.fr
SUMMARY:La Dysgraphie chez l’enfant et l’adolescent
DESCRIPTION:Coût\ninstitutions et/ou par l’employeur : 500\,00€ – professions libérales et/ou à titre individuel : 400\,00€ \nObjectif de la formation \n• Acquérir des connaissances théoriques et pratiques sur l’évaluation et la prise en charge des troubles de l’écriture chez l’enfant et l’adolescent. \nDates\n29 et 30 septembre 2025 \n  \nDocument\n Programme la Dysgraphie chez l’enfant et l’adolescent \n  \n  \nCette formation bénéficie d’une prise en charge  pour les psychologues\, les psychomotriciens(nes)\, ainsi que les orthophonistes
URL:https://afree.asso.fr/formation/la-dysgraphie-chez-lenfant-et-ladolescent
LOCATION:AFREE\, 11 Rue des Hospices\, Montpellier\, 34090\, France
CATEGORIES:Formations à venir,Formations Troubles émotionnels et du comportement 2025
ATTACH;FMTTYPE=image/jpeg:https://afree.asso.fr/wp-content/uploads/2023/02/Troubles-emotionnels.jpeg
END:VEVENT
END:VCALENDAR