BEGIN:VCALENDAR
VERSION:2.0
PRODID:-//AFREE - ECPv6.15.20//NONSGML v1.0//EN
CALSCALE:GREGORIAN
METHOD:PUBLISH
X-ORIGINAL-URL:https://afree.asso.fr
X-WR-CALDESC:Évènements pour AFREE
REFRESH-INTERVAL;VALUE=DURATION:PT1H
X-Robots-Tag:noindex
X-PUBLISHED-TTL:PT1H
BEGIN:VTIMEZONE
TZID:UTC
BEGIN:STANDARD
TZOFFSETFROM:+0000
TZOFFSETTO:+0000
TZNAME:UTC
DTSTART:20250101T000000
END:STANDARD
END:VTIMEZONE
BEGIN:VEVENT
DTSTART;TZID=UTC:20260504T090000
DTEND;TZID=UTC:20260504T170000
DTSTAMP:20260424T162224
CREATED:20250429T063952Z
LAST-MODIFIED:20250429T063952Z
UID:3312-1777885200-1777914000@afree.asso.fr
SUMMARY:Programme de prévention et prise en charge de l’anxiété de performance scolaire chez l’adolescent – Groupe CAPS : « Contrôle ton Anxiété de Performance Scolaire »
DESCRIPTION:Coût\ninstitutions et/ou par l’employeur : 260\,00€ – professions libérales et/ou à titre individuel : 210\,00€ \n\n  \n  \n\nObjectifs de la formation \n• Comprendre les éléments théoriques du programme CAPS et de la gestion du stress •  Présentation de l’ensemble du programme afin de permettre la mise en place du programme en groupe ou en individuel •  Maîtrise d’outils concrets de gestion du stress dans les situations de performance scolaire et de développement de stratégies adaptatives. \n\n  \n  \n\nDate\n4 mai 2026 \n\n  \n  \n\nDocument\n  Programme de prévention et prise en charge de l’anxiété de performance scolaire chez l’adolescent – Groupe CAPS : « Contrôle ton Anxiété de Performance Scolaire » \n  \nCette formation bénéficie d’une prise en charge  pour les psychologues et les psychomotriciens(nes)
URL:https://afree.asso.fr/formation/programme-de-prevention-et-prise-en-charge-de-lanxiete-de-performance-scolaire-chez-ladolescent-groupe-caps-controle-ton-anxiete-de-performance-scolaire
LOCATION:AFREE\, 11 Rue des Hospices\, Montpellier\, 34090\, France
CATEGORIES:Formations à venir,Formations Troubles émotionnels et du comportement 2026
ATTACH;FMTTYPE=image/png:https://afree.asso.fr/wp-content/uploads/2023/02/Neurodeveloppement.png
END:VEVENT
BEGIN:VEVENT
DTSTART;TZID=UTC:20260506T083000
DTEND;TZID=UTC:20260507T170000
DTSTAMP:20260424T162224
CREATED:20250429T065211Z
LAST-MODIFIED:20260331T093138Z
UID:3315-1778056200-1778173200@afree.asso.fr
SUMMARY:Programme d’autorégulation comportementale chez l’enfant TDA/H de 4 à 8 ans – Groupe de rééducation et de guidance parentale
DESCRIPTION:Coût\ninstitutions et/ou par l’employeur : 500\,00€ – professions libérales et/ou à titre individuel : 400\,00€ \n  \n  \nPrésentation de la formation\nLe groupe ARC est une prise en chrage multimodalle de l’enfant TDAH incluant un travail avec les famille et avec l’école. Il comprends une évaluation du retentissment fonctionnel du TDAH sur le plan familial\, scolaire et social. Il se base sur l’apprentissage de stratégies d’auto-régulation cognitives\, comportementales et  et  émotionnels en collaboration avec la famille et l’école. Le groupe comprends à la fois des séances d’évaluation individuelles pré et post-intervention et s’étale sur dix séances de groupes. \n  \n  \nObjectifs de la formation \n• Modèles théoriques du TDA/H  • Comprendre les éléments théoriques du programme ARC  • Présentation de l’ensemble du programme afin de permettre la mise en place du programme en groupe  • Maîtrise d’outils concrets de rééducation de l’enfant TDAH et de guidance parentale  • Introduction du travail en lien avec les écoles \n\n  \n  \n\nDates\n6 et 7 mai 2026 \n  \nDocument\n  Programme d’autorégulation comportementale chez l’enfant TDA/H de 4 à 8 ans – Groupe de rééducation et de guidance parentale \n  \nCette formation bénéficie d’une prise en charge pour les psychologues et les psychomotriciens(nes)
URL:https://afree.asso.fr/formation/programme-dautoregulation-comportementale-chez-lenfant-tda-h-de-4-a-8-ans-groupe-de-reeducation-et-de-guidance-parentale-2
LOCATION:AFREE\, 11 Rue des Hospices\, Montpellier\, 34090\, France
CATEGORIES:Formations à venir,Formations Troubles émotionnels et du comportement 2026
ATTACH;FMTTYPE=image/jpeg:https://afree.asso.fr/wp-content/uploads/2023/02/Troubles-emotionnels.jpeg
END:VEVENT
BEGIN:VEVENT
DTSTART;TZID=UTC:20260518T090000
DTEND;TZID=UTC:20260519T170000
DTSTAMP:20260424T162224
CREATED:20250429T065558Z
LAST-MODIFIED:20260213T112208Z
UID:3318-1779094800-1779210000@afree.asso.fr
SUMMARY:La résistance non violente (RNV) : programme de parents d’enfants/adolescent avec comportements tyranniques
DESCRIPTION: \nCoût\ninstitutions et/ou par l’employeur : 530\,00€ – professions libérales et/ou à titre individuel : 430\,00€ \n\n  \n  \n\nObjectifs de la formation \n• Connaître les principes de bases de la RNV • Description de cette population • Utilisation de la RNV dans cette population \n\n  \n  \n\nDates\n18 et 19 mai 2026 \n  \n  \nDocument\n  Programme la résistance non violente (RNV) : programme de parents d’enfants/adolescent avec comportements tyranniques \n  \nCette formation bénéficie d’une prise en charge  pour les psychologues et les psychomotriciens(nes)
URL:https://afree.asso.fr/formation/la-resistance-non-violente-rnv-programme-de-parents-denfants-adolescent-avec-comportements-tyranniques-2
LOCATION:AFREE\, 11 Rue des Hospices\, Montpellier\, 34090\, France
CATEGORIES:Formations à venir,Formations Troubles émotionnels et du comportement 2026
ATTACH;FMTTYPE=image/jpeg:https://afree.asso.fr/wp-content/uploads/2023/02/Troubles-emotionnels.jpeg
END:VEVENT
END:VCALENDAR